BEGIN:VCALENDAR
VERSION:2.0
PRODID:-//Events Kaikoura - ECPv4.9.13//NONSGML v1.0//EN
CALSCALE:GREGORIAN
METHOD:PUBLISH
X-WR-CALNAME:Events Kaikoura
X-ORIGINAL-URL:https://eventskaikoura.co.nz
X-WR-CALDESC:Events for Events Kaikoura
BEGIN:VTIMEZONE
TZID:Pacific/Auckland
BEGIN:STANDARD
TZOFFSETFROM:+1300
TZOFFSETTO:+1200
TZNAME:NZST
DTSTART:20190406T140000
END:STANDARD
BEGIN:DAYLIGHT
TZOFFSETFROM:+1200
TZOFFSETTO:+1300
TZNAME:NZDT
DTSTART:20190928T140000
END:DAYLIGHT
END:VTIMEZONE
BEGIN:VEVENT
DTSTART;TZID=Pacific/Auckland:20191129T130000
DTEND;TZID=Pacific/Auckland:20191129T170000
DTSTAMP:20191217T085538
CREATED:20190701T232143Z
LAST-MODIFIED:20190701T232143Z
UID:2493-1575032400-1575046800@eventskaikoura.co.nz
SUMMARY:Indoor Bowls Club
DESCRIPTION:Come for a friendly game of indoor bowls every Friday at 1.15pm at the Kaikōura Primary School Hall. Afternoon tea provided. Cost $10 for yearly membership and $3 per game. For more information phone Pat on 03 319 5277. \n
URL:https://eventskaikoura.co.nz/event/indoor-bowls-club/2019-11-29/
LOCATION:Kaikoura Primary School\, 19 Torquay Street\, Kaikoura\, New Zealand
CATEGORIES:Bowling,Community,Sport
GEO:-42.407706;173.6835853
X-APPLE-STRUCTURED-LOCATION;VALUE=URI;X-ADDRESS=Kaikoura Primary School 19 Torquay Street Kaikoura New Zealand;X-APPLE-RADIUS=500;X-TITLE=19 Torquay Street:geo:173.6835853,-42.407706
END:VEVENT
BEGIN:VEVENT
DTSTART;TZID=Pacific/Auckland:20191129T183000
DTEND;TZID=Pacific/Auckland:20191129T203000
DTSTAMP:20191217T085538
CREATED:20191126T203238Z
LAST-MODIFIED:20191126T203238Z
UID:5027-1575052200-1575059400@eventskaikoura.co.nz
SUMMARY:Wreath making at Fyffe House
DESCRIPTION:Christmas wreath making will be held at Fyffe House this Friday. It is not a teaching workshop but materials and refreshments will be provided.\nThe session is aimed at adults and will be run from 6-30 to 8-30pm. Bookings are essential and can be made by calling 03 19 5835 $7 per adult \n
URL:https://eventskaikoura.co.nz/event/wreath-making-at-fyffe-house/
LOCATION:Fyffe House\, Kaikoura\, New Zealand
ATTACH;FMTTYPE=image/jpeg:https://eventskaikoura.co.nz/wp-content/uploads/2019/11/fyffe.jpg
END:VEVENT
BEGIN:VEVENT
DTSTART;TZID=Pacific/Auckland:20191129T183000
DTEND;TZID=Pacific/Auckland:20191129T200000
DTSTAMP:20191217T085538
CREATED:20191126T204843Z
LAST-MODIFIED:20191126T204843Z
UID:5031-1575052200-1575057600@eventskaikoura.co.nz
SUMMARY:Mobile Mayfair
DESCRIPTION:Mobile mayfair will be showing the film “Late Night”this Friday evening. The film start Emma Thompson as a late-night talk show host whose world is turned upside down when she hires her first and only female staff writer.\nCertificate M 6-30pm Encounter Kaikoura \n
URL:https://eventskaikoura.co.nz/event/mobile-mayfair-2/
LOCATION:Dolphin Encounter\, Kaikoura\, Esplande\, Kaikoura\, New Zealand
ATTACH;FMTTYPE=image/jpeg:https://eventskaikoura.co.nz/wp-content/uploads/2019/11/mayfair.jpg
END:VEVENT
END:VCALENDAR