BEGIN:VCALENDAR
VERSION:2.0
PRODID:-//Events Kaikoura - ECPv4.9.13//NONSGML v1.0//EN
CALSCALE:GREGORIAN
METHOD:PUBLISH
X-WR-CALNAME:Events Kaikoura
X-ORIGINAL-URL:https://eventskaikoura.co.nz
X-WR-CALDESC:Events for Events Kaikoura
BEGIN:VTIMEZONE
TZID:Pacific/Auckland
BEGIN:STANDARD
TZOFFSETFROM:+1300
TZOFFSETTO:+1200
TZNAME:NZST
DTSTART:20190406T140000
END:STANDARD
BEGIN:DAYLIGHT
TZOFFSETFROM:+1200
TZOFFSETTO:+1300
TZNAME:NZDT
DTSTART:20190928T140000
END:DAYLIGHT
END:VTIMEZONE
BEGIN:VEVENT
DTSTART;TZID=Pacific/Auckland:20191203T100000
DTEND;TZID=Pacific/Auckland:20191203T233000
DTSTAMP:20191217T085946
CREATED:20190701T230432Z
LAST-MODIFIED:20190701T230432Z
UID:2351-1575367200-1575415800@eventskaikoura.co.nz
SUMMARY:Stepping Up in the library
DESCRIPTION:Sign up for a free class to learn computer basics in the library\, from 10am on Tuesday mornings. Modules include intro to Tablets/ipads\, Intro to Smartphones and many more. Ask at the Library for a schedule and to book. Or call 03 319 6280\, spaces are limited. \n
URL:https://eventskaikoura.co.nz/event/stepping-up-in-the-library/2019-12-03/
LOCATION:Kaikoura District Library\, 1st Floor Kaikoura District Council Building\, Kaikoura\, 7300
CATEGORIES:Classes,Community,Hosted By:,Library Events
ORGANIZER;CN="Kaikoura%20District%20Library":MAILTO:books@kdclibrary.co.nz
GEO:-42.4053673;173.6840331
X-APPLE-STRUCTURED-LOCATION;VALUE=URI;X-ADDRESS=Kaikoura District Library 1st Floor Kaikoura District Council Building Kaikoura 7300;X-APPLE-RADIUS=500;X-TITLE=1st Floor Kaikoura District Council Building:geo:173.6840331,-42.4053673
END:VEVENT
BEGIN:VEVENT
DTSTART;TZID=Pacific/Auckland:20191203T100000
DTEND;TZID=Pacific/Auckland:20191203T130000
DTSTAMP:20191217T085946
CREATED:20190702T004427Z
LAST-MODIFIED:20190702T004427Z
UID:3194-1575367200-1575378000@eventskaikoura.co.nz
SUMMARY:Tuesday's Plunket's under fives
DESCRIPTION:Plunket Baby\, for under six months and mum’s at 10am\, on Tuesdays followed by Toddler drop in center\, from 11-130am to  1pm. At McAra House next to Sonic Hotel\, West End \n
URL:https://eventskaikoura.co.nz/event/tuesdays-plunkets-under-fives/2019-12-03/
LOCATION:McAra House\, West End\, Kaikoura\, New Zealand
CATEGORIES:Childrens Event,community,Community
END:VEVENT
END:VCALENDAR