BEGIN:VCALENDAR
VERSION:2.0
PRODID:-//Events Kaikoura - ECPv4.9.13//NONSGML v1.0//EN
CALSCALE:GREGORIAN
METHOD:PUBLISH
X-WR-CALNAME:Events Kaikoura
X-ORIGINAL-URL:https://eventskaikoura.co.nz
X-WR-CALDESC:Events for Events Kaikoura
BEGIN:VTIMEZONE
TZID:Pacific/Auckland
BEGIN:STANDARD
TZOFFSETFROM:+1300
TZOFFSETTO:+1200
TZNAME:NZST
DTSTART:20190406T140000
END:STANDARD
BEGIN:DAYLIGHT
TZOFFSETFROM:+1200
TZOFFSETTO:+1300
TZNAME:NZDT
DTSTART:20190928T140000
END:DAYLIGHT
END:VTIMEZONE
BEGIN:VEVENT
DTSTART;TZID=Pacific/Auckland:20191205T090000
DTEND;TZID=Pacific/Auckland:20191205T150000
DTSTAMP:20191217T090209
CREATED:20190702T003307Z
LAST-MODIFIED:20190702T003307Z
UID:3056-1575536400-1575558000@eventskaikoura.co.nz
SUMMARY:Kaikōura Community Shed
DESCRIPTION:Join the local craftspeople at the Kaikōura community shed from 9am to 3pm on Wednesday and Thursday every week. 14 Ludstone rd.\nWhere Happiness is Homemade. \n
URL:https://eventskaikoura.co.nz/event/kaikoura-community-shed/2019-12-05/
LOCATION:Kaikoura Community Shed\, 14 Ludstone Rd\, Kaikoura\, New Zealand
CATEGORIES:Community,community,Community Shed,Hobby
END:VEVENT
BEGIN:VEVENT
DTSTART;TZID=Pacific/Auckland:20191205T090000
DTEND;TZID=Pacific/Auckland:20191205T160000
DTSTAMP:20191217T090209
CREATED:20190828T040138Z
LAST-MODIFIED:20190828T040138Z
UID:3931-1575536400-1575561600@eventskaikoura.co.nz
SUMMARY:NZ Transport Agency Driver & Vehicle Licensing
DESCRIPTION:Driver and Vehicle Licensing in Kaikōura on the following dates\nFor all enquiries regarding Driver Licensing please call toll free on 0800 822 422 \n
URL:https://eventskaikoura.co.nz/event/nz-transport-agency-driver-vehicle-licensing/2019-12-05/
LOCATION:Te Ha o Matauranga – Learning in Kaikoura\, 14 Ludstone Road\, Kaikoura\, 7300\, New Zealand
ATTACH;FMTTYPE=image/png:https://eventskaikoura.co.nz/wp-content/uploads/2019/08/aa.png
GEO:-42.399567;173.6784465
X-APPLE-STRUCTURED-LOCATION;VALUE=URI;X-ADDRESS=Te Ha o Matauranga – Learning in Kaikoura 14 Ludstone Road Kaikoura 7300 New Zealand;X-APPLE-RADIUS=500;X-TITLE=14 Ludstone Road:geo:173.6784465,-42.399567
END:VEVENT
BEGIN:VEVENT
DTSTART;TZID=Pacific/Auckland:20191205T100000
DTEND;TZID=Pacific/Auckland:20191205T130000
DTSTAMP:20191217T090209
CREATED:20190702T004905Z
LAST-MODIFIED:20190702T004905Z
UID:3248-1575540000-1575550800@eventskaikoura.co.nz
SUMMARY:Thursday's Plunket's under fives
DESCRIPTION:Plunket Baby\, new to Kaikōura and under 18 months at 10am\, on Thursdays followed by Toddler Drop-in Center\, from 11.30 to 1pm\, at McAra House next to Sonic Hotel\, West End \n
URL:https://eventskaikoura.co.nz/event/thursdays-plunkets-under-fives/2019-12-05/
LOCATION:McAra House\, West End\, Kaikoura\, New Zealand
CATEGORIES:Childrens Event,Community,community,Games
END:VEVENT
BEGIN:VEVENT
DTSTART;TZID=Pacific/Auckland:20191205T100000
DTEND;TZID=Pacific/Auckland:20191205T140000
DTSTAMP:20191217T090209
CREATED:20190702T005936Z
LAST-MODIFIED:20190702T005936Z
UID:3307-1575540000-1575554400@eventskaikoura.co.nz
SUMMARY:The Crafty Place
DESCRIPTION:Free drop in craft days from 10am to 2pm every Monday and Thursday at The Crafty Place\, 22 Beach Rd. Bring your knit\, crochet\, embroidery and scrap booking projects.\nContact Marz 021 0277 9288 \n
URL:https://eventskaikoura.co.nz/event/the-crafty-place/2019-12-05/
LOCATION:The Crafty Place\, 22 Beach rd\, Kaikoura\, New Zealand
CATEGORIES:Community,community,Crafts,Hobby
END:VEVENT
BEGIN:VEVENT
DTSTART;TZID=Pacific/Auckland:20191205T130000
DTEND;TZID=Pacific/Auckland:20191205T160000
DTSTAMP:20191217T090209
CREATED:20190702T015948Z
LAST-MODIFIED:20190702T015948Z
UID:3445-1575550800-1575561600@eventskaikoura.co.nz
SUMMARY:Kaikōura Art Society
DESCRIPTION:Meet every Thursday from 1pm to 4pm upstairs at Takahanga Bowling Club\, Kilarney Rd. Bring your own art materials\, friendly conversations\, new members welcome and can participate in exhibitions and workshops. Call Larry 03 319 7090 \n
URL:https://eventskaikoura.co.nz/event/kaikoura-art-society/2019-12-05/
LOCATION:Takahanga Bowling  Club\, Killarney St\, Kaikoura\, 7300
CATEGORIES:Art & Culture,Community,Hobby
END:VEVENT
BEGIN:VEVENT
DTSTART;TZID=Pacific/Auckland:20191205T170000
DTEND;TZID=Pacific/Auckland:20191205T200000
DTSTAMP:20191217T090209
CREATED:20191126T215808Z
LAST-MODIFIED:20191126T215808Z
UID:5035-1575565200-1575576000@eventskaikoura.co.nz
SUMMARY:RSA Christmas Lunch
DESCRIPTION:RSA will hold its annual Christmas dinner on December 5th at Donegal House. Members $25 to be paid to Dunleas by 29th November\nFor more details contact club president Yvonne Morrison 0212611985 \n
URL:https://eventskaikoura.co.nz/event/rsa-christmas-lunch/
LOCATION:Donegal House\, Schoolhouse Road\, Kaikoura\, 7300
ATTACH;FMTTYPE=image/jpeg:https://eventskaikoura.co.nz/wp-content/uploads/2019/11/christmas-lunch.jpg
END:VEVENT
BEGIN:VEVENT
DTSTART;TZID=Pacific/Auckland:20191205T173000
DTEND;TZID=Pacific/Auckland:20191205T200000
DTSTAMP:20191217T090209
CREATED:20191023T220132Z
LAST-MODIFIED:20191023T220132Z
UID:4924-1575567000-1575576000@eventskaikoura.co.nz
SUMMARY:Po Maori - Maori Nights
DESCRIPTION:Kei aku nui\, kei aku\, rahi\, kei aku whakatamarahi te rangi\, nau mai\, haere mai! \nTo those that call Kaikoura home\, Te Runanga o Kaikoura would like to invite you and your whanau onto the Takahanga Marae every Thursday night from 5-30pm – 8pm to learn Te reo Maori and other cultural aspects in a fun environment. \nAny ageiiss welcome and any level also\, from beginners to experts and all those in between. \nWe look forward to seeing you all here.\nClasses start October 24th\, please enter via the wharaekai (dinning room) where we will be there to greet you and usher you to the right place. \nAku Mihi Maioha Ki a tatou\n(salutations to one and all) \n
URL:https://eventskaikoura.co.nz/event/po-maori-maori-nights/2019-12-05/
LOCATION:Takahanga Marae\, Takahanga Terrace\, Kaikoura\, 7300\, New Zealand
ATTACH;FMTTYPE=image/jpeg:https://eventskaikoura.co.nz/wp-content/uploads/2019/10/runganga.jpg
END:VEVENT
END:VCALENDAR