BEGIN:VCALENDAR
VERSION:2.0
PRODID:-//Events Kaikoura - ECPv4.9.13//NONSGML v1.0//EN
CALSCALE:GREGORIAN
METHOD:PUBLISH
X-WR-CALNAME:Events Kaikoura
X-ORIGINAL-URL:https://eventskaikoura.co.nz
X-WR-CALDESC:Events for Events Kaikoura
BEGIN:VTIMEZONE
TZID:Pacific/Auckland
BEGIN:STANDARD
TZOFFSETFROM:+1300
TZOFFSETTO:+1200
TZNAME:NZST
DTSTART:20190406T140000
END:STANDARD
BEGIN:DAYLIGHT
TZOFFSETFROM:+1200
TZOFFSETTO:+1300
TZNAME:NZDT
DTSTART:20190928T140000
END:DAYLIGHT
END:VTIMEZONE
BEGIN:VEVENT
DTSTART;TZID=Pacific/Auckland:20191206T090000
DTEND;TZID=Pacific/Auckland:20191206T140000
DTSTAMP:20191217T090338
CREATED:20190828T040138Z
LAST-MODIFIED:20190828T040138Z
UID:3932-1575622800-1575640800@eventskaikoura.co.nz
SUMMARY:NZ Transport Agency Driver & Vehicle Licensing
DESCRIPTION:Driver and Vehicle Licensing in Kaikōura on the following dates\nFor all enquiries regarding Driver Licensing please call toll free on 0800 822 422 \n
URL:https://eventskaikoura.co.nz/event/nz-transport-agency-driver-vehicle-licensing/2019-12-06/
LOCATION:Te Ha o Matauranga – Learning in Kaikoura\, 14 Ludstone Road\, Kaikoura\, 7300\, New Zealand
ATTACH;FMTTYPE=image/png:https://eventskaikoura.co.nz/wp-content/uploads/2019/08/aa.png
GEO:-42.399567;173.6784465
X-APPLE-STRUCTURED-LOCATION;VALUE=URI;X-ADDRESS=Te Ha o Matauranga – Learning in Kaikoura 14 Ludstone Road Kaikoura 7300 New Zealand;X-APPLE-RADIUS=500;X-TITLE=14 Ludstone Road:geo:173.6784465,-42.399567
END:VEVENT
BEGIN:VEVENT
DTSTART;TZID=Pacific/Auckland:20191206T130000
DTEND;TZID=Pacific/Auckland:20191206T170000
DTSTAMP:20191217T090338
CREATED:20190701T232143Z
LAST-MODIFIED:20190701T232143Z
UID:2494-1575637200-1575651600@eventskaikoura.co.nz
SUMMARY:Indoor Bowls Club
DESCRIPTION:Come for a friendly game of indoor bowls every Friday at 1.15pm at the Kaikōura Primary School Hall. Afternoon tea provided. Cost $10 for yearly membership and $3 per game. For more information phone Pat on 03 319 5277. \n
URL:https://eventskaikoura.co.nz/event/indoor-bowls-club/2019-12-06/
LOCATION:Kaikoura Primary School\, 19 Torquay Street\, Kaikoura\, New Zealand
CATEGORIES:Bowling,Community,Sport
GEO:-42.407706;173.6835853
X-APPLE-STRUCTURED-LOCATION;VALUE=URI;X-ADDRESS=Kaikoura Primary School 19 Torquay Street Kaikoura New Zealand;X-APPLE-RADIUS=500;X-TITLE=19 Torquay Street:geo:173.6835853,-42.407706
END:VEVENT
END:VCALENDAR