BEGIN:VCALENDAR
VERSION:2.0
PRODID:-//Events Kaikoura - ECPv4.9.13//NONSGML v1.0//EN
CALSCALE:GREGORIAN
METHOD:PUBLISH
X-WR-CALNAME:Events Kaikoura
X-ORIGINAL-URL:https://eventskaikoura.co.nz
X-WR-CALDESC:Events for Events Kaikoura
BEGIN:VTIMEZONE
TZID:Pacific/Auckland
BEGIN:STANDARD
TZOFFSETFROM:+1300
TZOFFSETTO:+1200
TZNAME:NZST
DTSTART:20190406T140000
END:STANDARD
BEGIN:DAYLIGHT
TZOFFSETFROM:+1200
TZOFFSETTO:+1300
TZNAME:NZDT
DTSTART:20190928T140000
END:DAYLIGHT
END:VTIMEZONE
BEGIN:VEVENT
DTSTART;TZID=Pacific/Auckland:20191209T080000
DTEND;TZID=Pacific/Auckland:20191209T170000
DTSTAMP:20191217T090559
CREATED:20190702T002626Z
LAST-MODIFIED:20190702T002626Z
UID:2991-1575878400-1575910800@eventskaikoura.co.nz
SUMMARY:Youth Blast
DESCRIPTION:Kaikōura Youth Council run a youth blast event for Year 7 and up every second week of the month. \n
URL:https://eventskaikoura.co.nz/event/youth-blast/2019-12-09/
LOCATION:Kaikoura Youth Council\, Kaikoura\, New Zealand
CATEGORIES:Childrens Event,Games,Teenagers Event
END:VEVENT
BEGIN:VEVENT
DTSTART;TZID=Pacific/Auckland:20191209T083000
DTEND;TZID=Pacific/Auckland:20191209T083000
DTSTAMP:20191217T090559
CREATED:20190819T042446Z
LAST-MODIFIED:20190819T042446Z
UID:3783-1575880200-1575880200@eventskaikoura.co.nz
SUMMARY:Kaikoura Library - Careers Corner
DESCRIPTION:Kaikoura Library now has a careers corner: \nThis displays local Job opportunities\nOverseas Job Opportunities\nUniversity/apprenticeship info\nOverseas Education advice\nHelp with CV\nJob interview help\nDressing for an interview\ncareer advice and help \nPop in and see the ladies at the Library for more info \n
URL:https://eventskaikoura.co.nz/event/kaikoura-library-careers-corner/2019-12-09/
LOCATION:Kaikoura District Library\, 1st Floor Kaikoura District Council Building\, Kaikoura\, 7300
ATTACH;FMTTYPE=image/png:https://eventskaikoura.co.nz/wp-content/uploads/2019/08/careers-corner.png
ORGANIZER;CN="kaikoura%20library":MAILTO:books@kdclibrary.co.nz
GEO:-42.4053673;173.6840331
X-APPLE-STRUCTURED-LOCATION;VALUE=URI;X-ADDRESS=Kaikoura District Library 1st Floor Kaikoura District Council Building Kaikoura 7300;X-APPLE-RADIUS=500;X-TITLE=1st Floor Kaikoura District Council Building:geo:173.6840331,-42.4053673
END:VEVENT
BEGIN:VEVENT
DTSTART;TZID=Pacific/Auckland:20191209T090000
DTEND;TZID=Pacific/Auckland:20191209T170000
DTSTAMP:20191217T090559
CREATED:20191208T234201Z
LAST-MODIFIED:20191208T234201Z
UID:5076-1575882000-1575910800@eventskaikoura.co.nz
SUMMARY:Kaikoura District Library - Summer Reading Program
DESCRIPTION:Don’t forget the Library these holidays for children – this holiday club is Summer Carnival Reading program \nOur Summer Reading program is almost here\nWe are very excited\, this years theme is “The Great Reading Carnival”\nDuring the carnival the challenge is to read four books.\nAfter each book pop into the library to do a report with us\, and you will get an incentive prize!\nAfter the program is finished we will be hosting a grand finale party where you receive a medal\, certificate and other goodies.\nThis year we will be running the from 9th December 2019 to 17th January 2020 and we will be taking pre-registrations from now onwards.\nThis program is free  \n
URL:https://eventskaikoura.co.nz/event/kaikoura-district-library-summer-reading-program/2019-12-09/
LOCATION:Kaikoura District Library\, 1st Floor Kaikoura District Council Building\, Kaikoura\, 7300
ATTACH;FMTTYPE=image/jpeg:https://eventskaikoura.co.nz/wp-content/uploads/2019/12/GREAT_READING_CARNIVAL_Poster-scaled.jpg
ORGANIZER;CN="Kaikoura%20District%20Library":MAILTO:books@kdclibrary.co.nz
GEO:-42.4053673;173.6840331
X-APPLE-STRUCTURED-LOCATION;VALUE=URI;X-ADDRESS=Kaikoura District Library 1st Floor Kaikoura District Council Building Kaikoura 7300;X-APPLE-RADIUS=500;X-TITLE=1st Floor Kaikoura District Council Building:geo:173.6840331,-42.4053673
END:VEVENT
BEGIN:VEVENT
DTSTART;TZID=Pacific/Auckland:20191209T103000
DTEND;TZID=Pacific/Auckland:20191209T113000
DTSTAMP:20191217T090559
CREATED:20190702T003932Z
LAST-MODIFIED:20190702T003932Z
UID:3139-1575887400-1575891000@eventskaikoura.co.nz
SUMMARY:Toddler Time
DESCRIPTION:Songs\, Stories\, activities for pre-schoolers 10-30am to 11.30am every Monday at the Kaikōura District Library during term time. Phone 03 319 6280 \n
URL:https://eventskaikoura.co.nz/event/toddler-time/2019-12-09/
LOCATION:Kaikoura District Library\, 1st Floor Kaikoura District Council Building\, Kaikoura\, 7300
CATEGORIES:Childrens Event,community,Community,Games,Library Events
ORGANIZER;CN="Kaikoura%20District%20Library":MAILTO:books@kdclibrary.co.nz
GEO:-42.4053673;173.6840331
X-APPLE-STRUCTURED-LOCATION;VALUE=URI;X-ADDRESS=Kaikoura District Library 1st Floor Kaikoura District Council Building Kaikoura 7300;X-APPLE-RADIUS=500;X-TITLE=1st Floor Kaikoura District Council Building:geo:173.6840331,-42.4053673
END:VEVENT
BEGIN:VEVENT
DTSTART;TZID=Pacific/Auckland:20191209T170000
DTEND;TZID=Pacific/Auckland:20191209T200000
DTSTAMP:20191217T090559
CREATED:20191126T220738Z
LAST-MODIFIED:20191126T220738Z
UID:5038-1575910800-1575921600@eventskaikoura.co.nz
SUMMARY:Fisheries Public talk
DESCRIPTION:Scientists and representatives NZ and Te Korowai will be giving a public presentation about Paua regeneration and current restrictions along the Kaikoura coast.\nThe talk will take place at the Parish Hall on Ludstone St on Monday 9th December from 5-00pm – 8-00pm \n
URL:https://eventskaikoura.co.nz/event/fisheries-public-talk/
LOCATION:St Josephs Parish Hall\, Ludstone Road\, Kaikoura
ATTACH;FMTTYPE=image/png:https://eventskaikoura.co.nz/wp-content/uploads/2019/11/tekorowai-Medium-1.png
ORGANIZER;CN="Te%20Korowai%2C%20the%20Kaikoura%20Marine%20Guardians":MAILTO:teamkorowai@gmail.com
END:VEVENT
BEGIN:VEVENT
DTSTART;TZID=Pacific/Auckland:20191209T173000
DTEND;TZID=Pacific/Auckland:20191209T190000
DTSTAMP:20191217T090559
CREATED:20190702T001941Z
LAST-MODIFIED:20190702T001941Z
UID:2949-1575912600-1575918000@eventskaikoura.co.nz
SUMMARY:Kaikōura Community Kitchen
DESCRIPTION:Feeling hungry or need some company\, drop in to see Jill Hann and her team of volunteers at the Kaikōura Community Kitchen for a meal from 5-30pm to 7pm in the Scout Hall every Monday Night. Contact Jill 021 407 615 if you have any questions or would like to help out. \n
URL:https://eventskaikoura.co.nz/event/kaikoura-community-kitchen/2019-12-09/
LOCATION:Kaikoura\, New Zealand
CATEGORIES:Community,community
END:VEVENT
BEGIN:VEVENT
DTSTART;TZID=Pacific/Auckland:20191209T173000
DTEND;TZID=Pacific/Auckland:20191209T190000
DTSTAMP:20191217T090559
CREATED:20191003T023626Z
LAST-MODIFIED:20191003T023626Z
UID:4786-1575912600-1575918000@eventskaikoura.co.nz
SUMMARY:Kaikoura Community Kitchen
DESCRIPTION:Feeling hungry or need some company\, drop in to see Jill Hann and her team of volunteers at the Kaikoura Community Kitchen for a meal from 5-30pm to 7:00pm in the Scout Hall every Monday night.\nContact Jill 021 407615 If you have any questions or would like to help out \n
URL:https://eventskaikoura.co.nz/event/kaikoura-community-kitchen-2/2019-12-09/
LOCATION:Kaikoura Scout Hall\, Beach Rd\, Kaikoura\, New Zealand
ATTACH;FMTTYPE=image/jpeg:https://eventskaikoura.co.nz/wp-content/uploads/2019/10/kitchen.jpg
END:VEVENT
END:VCALENDAR