BEGIN:VCALENDAR
VERSION:2.0
PRODID:-//Events Kaikoura - ECPv4.9.13//NONSGML v1.0//EN
CALSCALE:GREGORIAN
METHOD:PUBLISH
X-WR-CALNAME:Events Kaikoura
X-ORIGINAL-URL:https://eventskaikoura.co.nz
X-WR-CALDESC:Events for Events Kaikoura
BEGIN:VTIMEZONE
TZID:Pacific/Auckland
BEGIN:STANDARD
TZOFFSETFROM:+1300
TZOFFSETTO:+1200
TZNAME:NZST
DTSTART:20190406T140000
END:STANDARD
BEGIN:DAYLIGHT
TZOFFSETFROM:+1200
TZOFFSETTO:+1300
TZNAME:NZDT
DTSTART:20190928T140000
END:DAYLIGHT
END:VTIMEZONE
BEGIN:VEVENT
DTSTART;TZID=Pacific/Auckland:20191211T090000
DTEND;TZID=Pacific/Auckland:20191211T150000
DTSTAMP:20191217T090909
CREATED:20190702T003307Z
LAST-MODIFIED:20190702T003307Z
UID:3057-1576054800-1576076400@eventskaikoura.co.nz
SUMMARY:Kaikōura Community Shed
DESCRIPTION:Join the local craftspeople at the Kaikōura community shed from 9am to 3pm on Wednesday and Thursday every week. 14 Ludstone rd.\nWhere Happiness is Homemade. \n
URL:https://eventskaikoura.co.nz/event/kaikoura-community-shed/2019-12-11/
LOCATION:Kaikoura Community Shed\, 14 Ludstone Rd\, Kaikoura\, New Zealand
CATEGORIES:Community,community,Community Shed,Hobby
END:VEVENT
BEGIN:VEVENT
DTSTART;TZID=Pacific/Auckland:20191211T130000
DTEND;TZID=Pacific/Auckland:20191211T150000
DTSTAMP:20191217T090909
CREATED:20190701T231551Z
LAST-MODIFIED:20190701T231551Z
UID:3551-1576069200-1576076400@eventskaikoura.co.nz
SUMMARY:Games in the Library
DESCRIPTION:Play board games in the Kaikōura Library every Wednesday from 1pm to 3pm. Learn new games and make friends. All welcome. \n
URL:https://eventskaikoura.co.nz/event/games-in-the-library/2019-12-11/
LOCATION:Kaikoura District Library\, 1st Floor Kaikoura District Council Building\, Kaikoura\, 7300
CATEGORIES:Community,Games,Hobby,Hosted By:,Library Events
ORGANIZER;CN="Kaikoura%20District%20Library":MAILTO:books@kdclibrary.co.nz
GEO:-42.4053673;173.6840331
X-APPLE-STRUCTURED-LOCATION;VALUE=URI;X-ADDRESS=Kaikoura District Library 1st Floor Kaikoura District Council Building Kaikoura 7300;X-APPLE-RADIUS=500;X-TITLE=1st Floor Kaikoura District Council Building:geo:173.6840331,-42.4053673
END:VEVENT
BEGIN:VEVENT
DTSTART;TZID=Pacific/Auckland:20191211T170000
DTEND;TZID=Pacific/Auckland:20191211T180000
DTSTAMP:20191217T090909
CREATED:20190702T010302Z
LAST-MODIFIED:20190702T010302Z
UID:3362-1576083600-1576087200@eventskaikoura.co.nz
SUMMARY:Yoga in the Books
DESCRIPTION:Bring a Yoga mat and a towel\, gold coin donation towards library programmes\, 5pm Wednesdays\, Kaikōura Library  \n
URL:https://eventskaikoura.co.nz/event/yoga-in-the-books/2019-12-11/
LOCATION:Kaikoura District Library\, 1st Floor Kaikoura District Council Building\, Kaikoura\, 7300
ORGANIZER;CN="Kaikoura%20District%20Library":MAILTO:books@kdclibrary.co.nz
GEO:-42.4053673;173.6840331
X-APPLE-STRUCTURED-LOCATION;VALUE=URI;X-ADDRESS=Kaikoura District Library 1st Floor Kaikoura District Council Building Kaikoura 7300;X-APPLE-RADIUS=500;X-TITLE=1st Floor Kaikoura District Council Building:geo:173.6840331,-42.4053673
END:VEVENT
END:VCALENDAR